BEGIN:VCALENDAR
VERSION:2.0
PRODID:icalendar-ruby
CALSCALE:GREGORIAN
METHOD:PUBLISH
BEGIN:VEVENT
DTSTAMP:20260425T201817Z
UID:52906165-3b8d-4f68-ae55-6fe4c9569743
DTSTART:20211002T090000
DTEND:20211002T210000
DESCRIPTION:<p><strong>Activity announcements will be made weekly please ch
 eck back for additional activity options</strong></p><p><br></p><p>The ina
 ugural Comic Con Cape Town was again delayed this year due to the continui
 ng COVID-19 pandemic. While a traditional Con is not possible in 2021\, Co
 mic Con Cape Town\, in partnership with the City of Cape Town are excited 
 to announce that they will be bringing a taste of Comic Con to the City th
 is October.</p><p> </p><p><strong>Comic Con Cape Town will be hosting a s
 eries of pop culture pop-up activities at different locations around the c
 ity for one day only on the 2</strong><sup><strong>nd </strong></sup><stro
 ng>October 2021. </strong></p><p> </p><p>Fans can look forward to explori
 ng exciting pop-up activities like Cosplay Competitions for professionals\
 , casuals and kids\, the extremely popular Comic Art Drink & Draw & Sketch
 -off Competitions\, Pop Culture Quiz and Fandom meet ups Sessions\, Fandom
  meet ups across the city\, Gaming and Table top Competitions and film wat
 ch parties to mention a few.</p><p><br></p><p><strong>Please note activity
  capacities/seats are limited and booking is essential to reserve seats.</
 strong></p><p><br></p><p><strong>Activity announcements will be made weekl
 y please check back for additional activity options</strong></p><p><br></p
 >
LOCATION:Refer to activity for location
SUMMARY:Comic Con Cape Town POP-UP Activities
URL;VALUE=URI:https://comiccon.howler.co.za/ccct-pop-up-2021
END:VEVENT
END:VCALENDAR
