BEGIN:VCALENDAR
VERSION:2.0
PRODID:icalendar-ruby
CALSCALE:GREGORIAN
METHOD:PUBLISH
BEGIN:VEVENT
DTSTAMP:20260422T010149Z
UID:94dcb559-7af6-4e47-97a4-c6f1f1241ac2
DTSTART:20240427T090000
DTEND:20240501T180000
DESCRIPTION:<p><strong>Comic Con Cape Town </strong>is BACK! This time\, wi
 th a twist!</p><p>A ticket to Comic Con gets you into KidsCon 🔁</p><p><
 br></p><p>Download the Comic Con app to get all the latest info!</p><p><br
 ></p><p>Comic Con Cape Town will run from<span style="color: rgb(35\, 170\
 , 200)\;"> </span><strong style="color: rgb(35\, 170\, 200)\;">9:00 to 18:
 00 </strong><span style="color: rgb(0\, 0\, 0)\;">on the </span><strong st
 yle="color: rgb(35\, 170\, 200)\;">Saturday\, Sunday\,</strong><strong sty
 le="color: rgb(32\, 165\, 182)\;"> </strong><span style="color: rgb(0\, 0\
 , 0)\;">and</span><strong style="color: rgb(32\, 165\, 182)\;"> </strong><
 strong style="color: rgb(35\, 170\, 200)\;">Wednesday</strong><span style=
 "color: rgb(14\, 96\, 160)\;"> </span>of the event\, while running from <s
 trong style="color: rgb(210\, 35\, 35)\;">11:00 to 18:00</strong><span sty
 le="color: rgb(246\, 30\, 30)\;"> </span><span style="color: rgb(0\, 0\, 0
 )\;">on the</span><span style="color: rgb(246\, 30\, 30)\;"> </span><stron
 g style="color: rgb(210\, 35\, 35)\;">Monday (Horror Celebration Day)</str
 ong><span style="color: rgb(210\, 35\, 35)\;"> </span><span style="color: 
 rgb(0\, 0\, 0)\;">and </span><strong style="color: rgb(210\, 35\, 35)\;">T
 uesday (Pyjama Party Themed)</strong><span style="color: rgb(246\, 30\, 30
 )\;"> </span>of the event.</p><p><br></p><p>With <strong style="color: rgb
 (35\, 170\, 200)\;">Saturday</strong><span style="color: rgb(35\, 170\, 20
 0)\;">\, </span><strong style="color: rgb(35\, 170\, 200)\;">Sunday</stron
 g>\, and <strong style="color: rgb(35\, 170\, 200)\;">Wednesday (the publi
 c holiday</strong><strong style="color: rgb(41\, 127\, 219)\;">)</strong> 
 being the traditional Comic Con that you know between 9AM and 6PM - you ca
 n meet celebrities\, get autographs and photo ops\, shop\, and enjoy every
 thing that you have come to know and love about the Comic Con experience.<
 /p><p><br></p><p><strong style="color: rgb(210\, 35\, 35)\;">Come for the 
 Con and stay for the party!</strong> On <strong style="color: rgb(210\, 35
 \, 35)\;">Monday</strong><strong style="color: rgb(222\, 13\, 13)\;"> </st
 rong>and <strong style="color: rgb(210\, 35\, 35)\;">Tuesday</strong><span
  style="color: rgb(210\, 35\, 35)\;">\,</span> you’re going to want to p
 ut in leave\, because the Con will come to steal your nights running from 
 11:00 - 20:00 – with activities never before seen at a Comic Con Cape To
 wn. Stay tuned for more info Closer to the show by following us on all soc
 ials.</p><p><br></p><p>Comic Con Cape Town is where you get to embrace bei
 ng yourself\, regardless of your cultural background\, physical ability or
  personal identity. A self-expressive festival where you can experience th
 e best in pop culture and enjoy a tangible experience of your favourite fa
 ndom.</p><p><br></p><p>Be inspired by comic artists\, content creators\, u
 rban artists and animators. Immerse yourself into the world of gaming and 
 meet & greet TV and film idols. Treat yourself to fandom gear and unique a
 rtwork. A space to geek out as a family and connect with like-minded peopl
 e.</p><p><br></p><p><strong style="color: rgb(180\, 41\, 219)\;">Celebrate
  a weekend together with your friends and family that you’ll never forge
 t. </strong></p><p><br></p><p><strong style="color: rgb(255\, 0\, 0)\;">T
 ICKETS ARE NON REFUNDABLE.</strong></p><p><br></p>
LOCATION:Corner of Heerengracht Street & Rua Bartholomeu Dias\, Foreshore\,
  Cape Town
SUMMARY:Comic Con Cape Town 2024
URL;VALUE=URI:https://comiccon.howler.co.za/comicconcapetown2024
END:VEVENT
END:VCALENDAR
