BEGIN:VCALENDAR
VERSION:2.0
PRODID:icalendar-ruby
CALSCALE:GREGORIAN
METHOD:PUBLISH
BEGIN:VEVENT
DTSTAMP:20260421T151934Z
UID:624a1d29-9325-46e6-bd55-099101f8f871
DTSTART:20260924T090000
DTEND:20260927T180000
DESCRIPTION:<p><span>Dust off your superhero outfits\, because Comic Con Af
 rica\, South Africa’s ultimate pop culture and gaming festival\, is set 
 to return to the </span><strong>Johannesburg Expo Centre (Nasrec)\, 24 - 2
 7 September 2026</strong><span>.</span></p><p><br></p><p><span>The event i
 s set to captivate fans once again\, bringing together enthusiasts from ac
 ross the country and beyond for a celebration of all things geeky\, from c
 omics and gaming to movies and television.</span></p><p><br></p><p class="
 ql-align-justify"><span>The regular fan favourites are set to return – w
 hich include the Artist Alley\, the main stage\, an unparalleled shopping 
 experience\, international celebrities\, esports\, daily casual cosplay co
 mpetitions\, and more.</span></p><p class="ql-align-justify"><br></p><p cl
 ass="ql-align-justify"><span>With Comic Con Africa being an evolving show\
 , this year’s iteration will continue to expand the experience with more
  activities for all\, free to play gaming competitions\, and more open spa
 ces for fans to connect.</span></p><p><br></p><p class="ql-align-justify">
 <span>Comic Con Africa will feature a star-studded roster of celebrity gue
 sts\, including renowned actors\, beloved comic book artists\, talented co
 splayers\, and industry insiders. Fans will have the opportunity to engage
  with their favourite stars through Q&A sessions\, autograph signings\, an
 d exclusive meet-and-greet photograph opportunities.</span></p><p class="q
 l-align-justify"><br></p><p class="ql-align-justify"><span>The convention 
 floor will be a bustling hub of activity\, with exhibitors offering a wide
  range of merchandise\, collectibles\, and memorabilia. From rare comic bo
 oks and graphic novels to gaming accessories and apparel\, fans can expect
  to find an abundance of treasures to add to their collections.</span></p>
 <p class="ql-align-justify"><br></p><p><strong style="color: rgb(180\, 41\
 , 219)\;">Celebrate a weekend together with your friends and family that y
 ou’ll never forget. </strong></p><p><br></p><p><strong style="color: rg
 b(255\, 0\, 0)\;">﻿NOTE: TICKETS ARE NON REFUNDABLE | PARENTAL GUIDANCE 
 IS SUGGESTED FOR SOME CONTENT</strong></p><p><br></p>
LOCATION:Nasrec rd\, Corner Rand Show Rd\, Nasrec\, Johannesburg\, 2091
SUMMARY:Comic Con Africa 2026
URL;VALUE=URI:https://comiccon.howler.co.za/CCA2026
END:VEVENT
END:VCALENDAR
